BEGIN:VCALENDAR
VERSION:2.0
PRODID:-//Crofton Infants&#039; School - ECPv5.1.4//NONSGML v1.0//EN
CALSCALE:GREGORIAN
METHOD:PUBLISH
X-WR-CALNAME:Crofton Infants&#039; School
X-ORIGINAL-URL:https://croftoninfants.org
X-WR-CALDESC:Events for Crofton Infants&#039; School
BEGIN:VTIMEZONE
TZID:Europe/London
BEGIN:DAYLIGHT
TZOFFSETFROM:+0000
TZOFFSETTO:+0100
TZNAME:BST
DTSTART:20230326T010000
END:DAYLIGHT
BEGIN:STANDARD
TZOFFSETFROM:+0100
TZOFFSETTO:+0000
TZNAME:GMT
DTSTART:20231029T010000
END:STANDARD
END:VTIMEZONE
BEGIN:VEVENT
DTSTART;TZID=Europe/London:20230626T080000
DTEND;TZID=Europe/London:20230630T170000
DTSTAMP:20260420T091859
CREATED:20230616T100116Z
LAST-MODIFIED:20230616T100116Z
UID:2094-1687766400-1688144400@croftoninfants.org
SUMMARY:Heath Week
DESCRIPTION:Dear Parents/ Carers\, \n  \nOur annual Health Week starts on Monday 26th June. The children will be participating in a different workshop each day  and the children are invited to come to school in a PE kit all week. \n  \nHistorically\, we have raised money for a charity during this week and this year we have chosen to support the local Air Ambulance. A representative is coming into school on Tuesday 20th to discuss with the children what their role is as part of a special assembly. \n  \nWe would like to ask that you sponsor your child for taking part in the Army Fitness circuit that will be run by an Army PT instructor on Thursday 29th to raise money for this worthwhile and local charity. \n  \nThe Just Giving link and details on what will be happening each day during Health Week are provided below. I hope that the children enjoy the exciting range of activities during the week. \n  \nThank you for your support\, \n  \nMrs L Butler \n  \nhttps://www.justgiving.com/page/croftoninfants-1686839311892?newPage=true \n  \n\n\n\nMonday 26th\nRugby Workshops delivered by Featherstone Rovers \nMindfulness Workshop – Years 1 and 2 only\n\n\nTuesday 27th\nSports Day \nEYFS:  9:45-10:30 \nYears 1 and 2:  1:30- 2:45 (parents are welcome to the Yr 1 and 2 session)\n\n\nWednesday 28th\nSkipping Workshop \n \n\n\nThursday 29th\nArmy Fitness Circuit \nYear 2 to take part in a ‘Daily Mile’ competition organised by Wakefield Council\n\n\nFriday 30th\nBounce Beyond-  a mini trampoline workshop\n\n\n\n  \n
URL:https://croftoninfants.org/event/health-week/
END:VEVENT
BEGIN:VEVENT
DTSTART;TZID=Europe/London:20230628T131500
DTEND;TZID=Europe/London:20230628T141500
DTSTAMP:20260420T091859
CREATED:20230616T100257Z
LAST-MODIFIED:20230616T100257Z
UID:2096-1687958100-1687961700@croftoninfants.org
SUMMARY:New to Nursery Sep 23 Feet session 1:15 – 2:15
DESCRIPTION:New to Nursery Sep 23 Feet session 1:15 – 2:15 \n
URL:https://croftoninfants.org/event/new-to-nursery-sep-23-feet-session-115-215-2/
END:VEVENT
BEGIN:VEVENT
DTSTART;VALUE=DATE:20230704
DTEND;VALUE=DATE:20230705
DTSTAMP:20260420T091859
CREATED:20230616T100404Z
LAST-MODIFIED:20230616T100404Z
UID:2098-1688428800-1688515199@croftoninfants.org
SUMMARY:Transition Day for all classes
DESCRIPTION:Year 2 to go to Junior’s – transition day 1 \nNew to Reception Sep 23 in school 9:30 – 11:30 \n
URL:https://croftoninfants.org/event/transition-day-for-all-classes/
END:VEVENT
BEGIN:VEVENT
DTSTART;TZID=Europe/London:20230706T180000
DTEND;TZID=Europe/London:20230706T190000
DTSTAMP:20260420T091859
CREATED:20230616T100730Z
LAST-MODIFIED:20230616T100730Z
UID:2100-1688666400-1688670000@croftoninfants.org
SUMMARY:Year 2 Junior school parents meeting 6pm
DESCRIPTION:Year 2 Junior school parents meeting 6pm \n
URL:https://croftoninfants.org/event/year-2-junior-school-parents-meeting-6pm/
END:VEVENT
BEGIN:VEVENT
DTSTART;TZID=Europe/London:20230711T090000
DTEND;TZID=Europe/London:20230711T103000
DTSTAMP:20260420T091859
CREATED:20230616T100911Z
LAST-MODIFIED:20230616T100911Z
UID:2102-1689066000-1689071400@croftoninfants.org
SUMMARY:Year 2 Leavers concert AM
DESCRIPTION:Year 2 concert AM \n
URL:https://croftoninfants.org/event/year-2-leavers-concert-am/
END:VEVENT
BEGIN:VEVENT
DTSTART;TZID=Europe/London:20230712T133000
DTEND;TZID=Europe/London:20230712T150000
DTSTAMP:20260420T091859
CREATED:20230616T101002Z
LAST-MODIFIED:20230616T101002Z
UID:2104-1689168600-1689174000@croftoninfants.org
SUMMARY:Year 2 Leavers concert PM
DESCRIPTION:Year 2 Leavers concert PM \n
URL:https://croftoninfants.org/event/year-2-leavers-concert-pm/
END:VEVENT
BEGIN:VEVENT
DTSTART;VALUE=DATE:20230713
DTEND;VALUE=DATE:20230714
DTSTAMP:20260420T091859
CREATED:20230616T101041Z
LAST-MODIFIED:20230616T101041Z
UID:2106-1689206400-1689292799@croftoninfants.org
SUMMARY:Year 2 Transition day 2 to Juniors
DESCRIPTION:Year 2 Transition day 2 to Juniors \n
URL:https://croftoninfants.org/event/year-2-transition-day-2-to-juniors/
END:VEVENT
BEGIN:VEVENT
DTSTART;VALUE=DATE:20230713
DTEND;VALUE=DATE:20230714
DTSTAMP:20260420T091859
CREATED:20230616T101120Z
LAST-MODIFIED:20230616T101120Z
UID:2108-1689206400-1689292799@croftoninfants.org
SUMMARY:EYFS Beach Day
DESCRIPTION:EYFS Beach Day \n
URL:https://croftoninfants.org/event/eyfs-beach-day/
END:VEVENT
BEGIN:VEVENT
DTSTART;VALUE=DATE:20230717
DTEND;VALUE=DATE:20230718
DTSTAMP:20260420T091859
CREATED:20230616T101926Z
LAST-MODIFIED:20230616T101926Z
UID:2110-1689552000-1689638399@croftoninfants.org
SUMMARY:Nursery leavers Lotherton Hall trip
DESCRIPTION:Nursery leavers Lotherton Hall trip \n
URL:https://croftoninfants.org/event/nursery-leavers-lotherton-hall-trip/
END:VEVENT
BEGIN:VEVENT
DTSTART;TZID=Europe/London:20230719T160000
DTEND;TZID=Europe/London:20230719T173000
DTSTAMP:20260420T091859
CREATED:20230616T102026Z
LAST-MODIFIED:20230616T102026Z
UID:2112-1689782400-1689787800@croftoninfants.org
SUMMARY:Year 2 leavers party 4pm
DESCRIPTION:Year 2 leavers party 4pm \n
URL:https://croftoninfants.org/event/year-2-leavers-party-4pm/
END:VEVENT
BEGIN:VEVENT
DTSTART;VALUE=DATE:20230721
DTEND;VALUE=DATE:20230722
DTSTAMP:20260420T091859
CREATED:20230714T140137Z
LAST-MODIFIED:20230714T140137Z
UID:2150-1689897600-1689983999@croftoninfants.org
SUMMARY:School closes Friday 21st July at 3pm
DESCRIPTION:School closes Friday 21st July at 3pm \n
URL:https://croftoninfants.org/event/school-closes-friday-21st-july-at-3pm/
END:VEVENT
END:VCALENDAR