BEGIN:VCALENDAR
VERSION:2.0
PRODID:-//Crofton Infants&#039; School - ECPv5.1.4//NONSGML v1.0//EN
CALSCALE:GREGORIAN
METHOD:PUBLISH
X-WR-CALNAME:Crofton Infants&#039; School
X-ORIGINAL-URL:https://croftoninfants.org
X-WR-CALDESC:Events for Crofton Infants&#039; School
BEGIN:VTIMEZONE
TZID:Europe/London
BEGIN:DAYLIGHT
TZOFFSETFROM:+0000
TZOFFSETTO:+0100
TZNAME:BST
DTSTART:20230326T010000
END:DAYLIGHT
BEGIN:STANDARD
TZOFFSETFROM:+0100
TZOFFSETTO:+0000
TZNAME:GMT
DTSTART:20231029T010000
END:STANDARD
END:VTIMEZONE
BEGIN:VEVENT
DTSTART;TZID=Europe/London:20231106T153000
DTEND;TZID=Europe/London:20231106T163000
DTSTAMP:20260420T090614
CREATED:20231003T124639Z
LAST-MODIFIED:20231003T124639Z
UID:2274-1699284600-1699288200@croftoninfants.org
SUMMARY:Sleep Success
DESCRIPTION:Future in Minds will be delivering “Sleep Success” assembly to the children\, followed by a parent workshop in the hall at; \nMonday 6th November 3:30-4:30pm   \n
URL:https://croftoninfants.org/event/sleep-success/
END:VEVENT
BEGIN:VEVENT
DTSTART;VALUE=DATE:20231108
DTEND;VALUE=DATE:20231109
DTSTAMP:20260420T090614
CREATED:20231003T120242Z
LAST-MODIFIED:20231003T120242Z
UID:2268-1699401600-1699487999@croftoninfants.org
SUMMARY:School photos
DESCRIPTION:Tempest photography will be in school on 8th November for individual school photographs. \n
URL:https://croftoninfants.org/event/school-photos/
LOCATION:Crofton Infant School
END:VEVENT
BEGIN:VEVENT
DTSTART;VALUE=DATE:20231113
DTEND;VALUE=DATE:20231114
DTSTAMP:20260420T090614
CREATED:20231109T101756Z
LAST-MODIFIED:20231109T101756Z
UID:2321-1699833600-1699919999@croftoninfants.org
SUMMARY:Odd sock day - anti bullying
DESCRIPTION:Odd sock day for anti bullying week. Full uniform to be worn. \n
URL:https://croftoninfants.org/event/odd-sock-day-anti-bullying/
END:VEVENT
BEGIN:VEVENT
DTSTART;TZID=Europe/London:20231113T170000
DTEND;TZID=Europe/London:20231113T180000
DTSTAMP:20260420T090614
CREATED:20231109T101531Z
LAST-MODIFIED:20231109T101531Z
UID:4309-1699894800-1699898400@croftoninfants.org
SUMMARY:January nursery starters meeting
DESCRIPTION:January nursery starters meeting 5pm to 6pm \n
URL:https://croftoninfants.org/event/january-nursery-starters-meeting/
END:VEVENT
BEGIN:VEVENT
DTSTART;VALUE=DATE:20231117
DTEND;VALUE=DATE:20231118
DTSTAMP:20260420T090614
CREATED:20231109T101829Z
LAST-MODIFIED:20231109T101829Z
UID:2323-1700179200-1700265599@croftoninfants.org
SUMMARY:Children in need - non uniform day
DESCRIPTION:Children in need – non uniform day \n
URL:https://croftoninfants.org/event/children-in-need-non-uniform-day/
END:VEVENT
BEGIN:VEVENT
DTSTART;TZID=Europe/London:20231120T090000
DTEND;TZID=Europe/London:20231124T150000
DTSTAMP:20260420T090614
CREATED:20230912T073016Z
LAST-MODIFIED:20230912T073016Z
UID:2168-1700470800-1700838000@croftoninfants.org
SUMMARY:World Nursery Rhyme week
DESCRIPTION:More details to follow via school communication \n
URL:https://croftoninfants.org/event/world-nursery-rhyme-week/
END:VEVENT
BEGIN:VEVENT
DTSTART;TZID=Europe/London:20231130T140000
DTEND;TZID=Europe/London:20231130T160000
DTSTAMP:20260420T090614
CREATED:20231109T094059Z
LAST-MODIFIED:20231109T094059Z
UID:2317-1701352800-1701360000@croftoninfants.org
SUMMARY:School Fair
DESCRIPTION:School fair starting at 2pm \n
URL:https://croftoninfants.org/event/school-fair/
END:VEVENT
END:VCALENDAR