BEGIN:VCALENDAR
VERSION:2.0
PRODID:-//Crofton Infants&#039; School - ECPv5.1.4//NONSGML v1.0//EN
CALSCALE:GREGORIAN
METHOD:PUBLISH
X-WR-CALNAME:Crofton Infants&#039; School
X-ORIGINAL-URL:https://croftoninfants.org
X-WR-CALDESC:Events for Crofton Infants&#039; School
BEGIN:VTIMEZONE
TZID:Europe/London
BEGIN:DAYLIGHT
TZOFFSETFROM:+0000
TZOFFSETTO:+0100
TZNAME:BST
DTSTART:20230326T010000
END:DAYLIGHT
BEGIN:STANDARD
TZOFFSETFROM:+0100
TZOFFSETTO:+0000
TZNAME:GMT
DTSTART:20231029T010000
END:STANDARD
END:VTIMEZONE
BEGIN:VEVENT
DTSTART;TZID=Europe/London:20231130T140000
DTEND;TZID=Europe/London:20231130T160000
DTSTAMP:20260420T090626
CREATED:20231109T094059Z
LAST-MODIFIED:20231109T094059Z
UID:2317-1701352800-1701360000@croftoninfants.org
SUMMARY:School Fair
DESCRIPTION:School fair starting at 2pm \n
URL:https://croftoninfants.org/event/school-fair/
END:VEVENT
BEGIN:VEVENT
DTSTART;VALUE=DATE:20231204
DTEND;VALUE=DATE:20231205
DTSTAMP:20260420T090626
CREATED:20231003T120059Z
LAST-MODIFIED:20231003T120059Z
UID:2266-1701648000-1701734399@croftoninfants.org
SUMMARY:Flu vaccines
DESCRIPTION:Flu immunisations will take place in school on Monday 4th December for children from Reception to Year 2. Please look out for the consent forms which will be coming out to you soon. \n
URL:https://croftoninfants.org/event/flu-vaccines/
END:VEVENT
BEGIN:VEVENT
DTSTART;TZID=Europe/London:20231205T140000
DTEND;TZID=Europe/London:20231205T150000
DTSTAMP:20260420T090626
CREATED:20230912T073217Z
LAST-MODIFIED:20230912T073217Z
UID:2170-1701784800-1701788400@croftoninfants.org
SUMMARY:Christmas Stay and Play - Reception
DESCRIPTION:Reception class Tuesday 5th December 1:45pm to 2:45pm\, more details to follow in school communication \n
URL:https://croftoninfants.org/event/christmas-stay-and-play-reception/
END:VEVENT
BEGIN:VEVENT
DTSTART;VALUE=DATE:20231206
DTEND;VALUE=DATE:20231207
DTSTAMP:20260420T090626
CREATED:20230912T073647Z
LAST-MODIFIED:20230912T073647Z
UID:2174-1701820800-1701907199@croftoninfants.org
SUMMARY:Christmas Nativities - Nursery
DESCRIPTION:Wednesday 6th December\, more details to follow in school communication \n
URL:https://croftoninfants.org/event/christmas-nativities-nursery/
END:VEVENT
BEGIN:VEVENT
DTSTART;VALUE=DATE:20231206
DTEND;VALUE=DATE:20231207
DTSTAMP:20260420T090626
CREATED:20231109T102023Z
LAST-MODIFIED:20231109T102023Z
UID:2328-1701820800-1701907199@croftoninfants.org
SUMMARY:Christmas lunch day
DESCRIPTION:Christmas lunch day. Children can wear their Christmas jumper instead of their school jumper today. \n
URL:https://croftoninfants.org/event/christmas-lunch-day/
END:VEVENT
BEGIN:VEVENT
DTSTART;VALUE=DATE:20231212
DTEND;VALUE=DATE:20231214
DTSTAMP:20260420T090626
CREATED:20231109T102153Z
LAST-MODIFIED:20231109T102153Z
UID:2330-1702339200-1702511999@croftoninfants.org
SUMMARY:Nativity
DESCRIPTION:Reception 12th December AM \nReception 13th December PM \nYear 1 12th December PM \nYear 1 13th December AM \n  \n
URL:https://croftoninfants.org/event/nativity/
END:VEVENT
BEGIN:VEVENT
DTSTART;TZID=Europe/London:20231215T090000
DTEND;TZID=Europe/London:20231215T150000
DTSTAMP:20260420T090626
CREATED:20230912T073411Z
LAST-MODIFIED:20230912T073411Z
UID:2172-1702630800-1702652400@croftoninfants.org
SUMMARY:Christmas Stay and Play - Nursery AM and PM
DESCRIPTION:15th December AM and PM sessions\, more details to follow in school communication \n
URL:https://croftoninfants.org/event/christmas-stay-and-play-nursery-am-and-pm/
END:VEVENT
BEGIN:VEVENT
DTSTART;VALUE=DATE:20231218
DTEND;VALUE=DATE:20231219
DTSTAMP:20260420T090626
CREATED:20231122T120228Z
LAST-MODIFIED:20231122T120228Z
UID:2374-1702857600-1702943999@croftoninfants.org
SUMMARY:Reindeer Run
DESCRIPTION:The children are taking part in Wakefield Hospice’s Reindeer Run \n
URL:https://croftoninfants.org/event/reindeer-run/
END:VEVENT
BEGIN:VEVENT
DTSTART;VALUE=DATE:20231220
DTEND;VALUE=DATE:20231221
DTSTAMP:20260420T090626
CREATED:20231109T102248Z
LAST-MODIFIED:20231109T102248Z
UID:2332-1703030400-1703116799@croftoninfants.org
SUMMARY:Christmas Party Day
DESCRIPTION:Christmas Party Day \n
URL:https://croftoninfants.org/event/christmas-party-day/
END:VEVENT
BEGIN:VEVENT
DTSTART;VALUE=DATE:20231222
DTEND;VALUE=DATE:20231223
DTSTAMP:20260420T090626
CREATED:20230912T082650Z
LAST-MODIFIED:20230912T082650Z
UID:2182-1703203200-1703289599@croftoninfants.org
SUMMARY:Inset Day - school closed
DESCRIPTION:Inset Day – school closed \n
URL:https://croftoninfants.org/event/inset-day-school-closed/
END:VEVENT
END:VCALENDAR