BEGIN:VCALENDAR
VERSION:2.0
PRODID:-//Crofton Infants&#039; School - ECPv5.1.4//NONSGML v1.0//EN
CALSCALE:GREGORIAN
METHOD:PUBLISH
X-WR-CALNAME:Crofton Infants&#039; School
X-ORIGINAL-URL:https://croftoninfants.org
X-WR-CALDESC:Events for Crofton Infants&#039; School
BEGIN:VTIMEZONE
TZID:Europe/London
BEGIN:DAYLIGHT
TZOFFSETFROM:+0000
TZOFFSETTO:+0100
TZNAME:BST
DTSTART:20240331T010000
END:DAYLIGHT
BEGIN:STANDARD
TZOFFSETFROM:+0100
TZOFFSETTO:+0000
TZNAME:GMT
DTSTART:20241027T010000
END:STANDARD
END:VTIMEZONE
BEGIN:VEVENT
DTSTART;TZID=Europe/London:20240123T143000
DTEND;TZID=Europe/London:20240123T150000
DTSTAMP:20260420T090831
CREATED:20231122T121146Z
LAST-MODIFIED:20231122T121146Z
UID:2376-1706020200-1706022000@croftoninfants.org
SUMMARY:Book chat session
DESCRIPTION:Book chat session 23rd January 2:30 – 3pm \n
URL:https://croftoninfants.org/event/book-chat-session/
END:VEVENT
BEGIN:VEVENT
DTSTART;VALUE=DATE:20240131
DTEND;VALUE=DATE:20240201
DTSTAMP:20260420T090831
CREATED:20231109T094018Z
LAST-MODIFIED:20231109T094018Z
UID:2315-1706659200-1706745599@croftoninfants.org
SUMMARY:Year 1 trip - YWP
DESCRIPTION:Year 1 trip – YWP \n
URL:https://croftoninfants.org/event/year-1-trip-ywp/
END:VEVENT
BEGIN:VEVENT
DTSTART;VALUE=DATE:20240202
DTEND;VALUE=DATE:20240203
DTSTAMP:20260420T090831
CREATED:20240111T160336Z
LAST-MODIFIED:20240111T160336Z
UID:2498-1706832000-1706918399@croftoninfants.org
SUMMARY:NSPCC Number Day
DESCRIPTION:NSPCC Number Day \n
URL:https://croftoninfants.org/event/nspcc-number-day/
END:VEVENT
END:VCALENDAR